BEGIN:VCALENDAR
VERSION:2.0
PRODID:-//Tukios.com/
BEGIN:VEVENT
UID:103689b2-bdef-489e-a5a7-799fbe670a21@www.manganofh.com
DTSTAMP:20260423T215811Z
DTSTART:20260428T180000Z
DTEND:20260428T203000Z
SUMMARY:Visitation
DESCRIPTION:
URL:https://www.manganofh.com/obituaries/barbara-curcio
LOCATION: 1701 Deer Pk Ave  Deer Park NY 11729
GEO:40.7541279;-73.3258728
END:VEVENT
END:VCALENDAR