BEGIN:VCALENDAR
VERSION:2.0
PRODID:-//Tukios.com/
BEGIN:VEVENT
UID:fff82315-6c0d-4d4e-9108-0187fbecfa0a@www.manganofh.com
DTSTAMP:20260423T215612Z
DTSTART:20260428T230000Z
DTEND:20260429T013000Z
SUMMARY:Visitation
DESCRIPTION:
URL:https://www.manganofh.com/obituaries/barbara-curcio
LOCATION: 1701 Deer Pk Ave  Deer Park NY 11729
GEO:40.7541279;-73.3258728
END:VEVENT
END:VCALENDAR