BEGIN:VCALENDAR
VERSION:2.0
PRODID:-//Tukios.com/
BEGIN:VEVENT
UID:8af9fdb8-0760-4a43-ae7a-e8d8129286e0@www.manganofh.com
DTSTAMP:20260423T220008Z
DTSTART:20260429T141500Z
DTEND:20260429T151500Z
SUMMARY:Mass
DESCRIPTION:
URL:https://www.manganofh.com/obituaries/barbara-curcio
LOCATION: 9 N Clinton Ave  BAYSHORE NY 11706
GEO:40.7195078;-73.2534938
END:VEVENT
END:VCALENDAR