BEGIN:VCALENDAR
VERSION:2.0
PRODID:-//Tukios.com/
BEGIN:VEVENT
UID:3d1799b5-52f3-4dd5-950d-80a901c8c2a0@www.manganofh.com
DTSTAMP:20260423T220114Z
DTSTART:20260429
SUMMARY:Burial
DESCRIPTION:
URL:https://www.manganofh.com/obituaries/barbara-curcio
LOCATION: 2015 Wellwood Ave  East Farmingdale NY 11735
GEO:40.73705;-73.4012472
END:VEVENT
END:VCALENDAR