BEGIN:VCALENDAR
VERSION:2.0
PRODID:-//Tukios.com/
BEGIN:VEVENT
UID:4585acc2-e14e-4531-aa19-1657594e5308@www.manganofh.com
DTSTAMP:20260421T160212Z
DTSTART:20260423T200000Z
DTEND:20260424T000000Z
SUMMARY:Visitation
DESCRIPTION:
URL:https://www.manganofh.com/obituaries/dominico-menduni
LOCATION:Roslyn Heights Funeral Home 75 Mineola Ave  Roslyn Heights NY 
	11577
GEO:40.7894634;-73.6524237
END:VEVENT
END:VCALENDAR