BEGIN:VCALENDAR
VERSION:2.0
PRODID:-//Tukios.com/
BEGIN:VEVENT
UID:5398dd98-1ae9-4081-b771-e151d49c39aa@www.manganofh.com
DTSTAMP:20260421T160348Z
DTSTART:20260424T150000Z
DTEND:20260424T160000Z
SUMMARY:Mass
DESCRIPTION:
URL:https://www.manganofh.com/obituaries/dominico-menduni
LOCATION:American Martyrs R.C. Church 79-43 Bell Blvd  Oakland Gardens NY 
	11364
GEO:40.7348941;-73.7548647
END:VEVENT
END:VCALENDAR