BEGIN:VCALENDAR
VERSION:2.0
PRODID:-//Tukios.com/
BEGIN:VEVENT
UID:92cbcec1-61d5-492e-a524-070aea7e447b@www.manganofh.com
DTSTAMP:20260421T155902Z
DTSTART:20260424T134500Z
DTEND:20260424T143000Z
SUMMARY:Closing Prayers
DESCRIPTION:
URL:https://www.manganofh.com/obituaries/dominico-menduni
LOCATION: 75 Mineola Ave  Roslyn Heights NY 11577
GEO:40.7894634;-73.6524237
END:VEVENT
END:VCALENDAR