BEGIN:VCALENDAR
VERSION:2.0
PRODID:-//Tukios.com/
BEGIN:VEVENT
UID:f0047b6d-b819-4daa-9304-7de2aca1c92b@www.manganofh.com
DTSTAMP:20260422T233830Z
DTSTART:20260426T180000Z
DTEND:20260426T203000Z
SUMMARY:Visitation
DESCRIPTION:
URL:https://www.manganofh.com/obituaries/jose-viera-jr
LOCATION: 1701 Deer Pk Ave  Deer Park NY 11729
GEO:40.7541279;-73.3258728
END:VEVENT
END:VCALENDAR