BEGIN:VCALENDAR
VERSION:2.0
PRODID:-//Tukios.com/
BEGIN:VEVENT
UID:25e7858b-d8c2-46a4-94a5-0a7886ba6ee1@www.manganofh.com
DTSTAMP:20260422T234402Z
DTSTART:20260426T230000Z
DTEND:20260427T013000Z
SUMMARY:Visitation
DESCRIPTION:
URL:https://www.manganofh.com/obituaries/jose-viera-jr
LOCATION: 1701 Deer Pk Ave  Deer Park NY 11729
GEO:40.7541279;-73.3258728
END:VEVENT
END:VCALENDAR