BEGIN:VCALENDAR
VERSION:2.0
PRODID:-//Tukios.com/
BEGIN:VEVENT
UID:62a65cdc-c0e3-4be1-a65d-e9f8ce351b2b@www.manganofh.com
DTSTAMP:20260422T094026Z
DTSTART:20260420
SUMMARY:Burial
DESCRIPTION:
URL:https://www.manganofh.com/obituaries/robert-jamieson
LOCATION: 210 Princeton Boulevard  Calverton NY 11933-1031
GEO:40.9241451;-72.8160444
END:VEVENT
END:VCALENDAR